BEGIN:VCALENDAR
VERSION:2.0
PRODID:-//Gemeinde Köngernheim - ECPv6.15.20//NONSGML v1.0//EN
CALSCALE:GREGORIAN
METHOD:PUBLISH
X-WR-CALNAME:Gemeinde Köngernheim
X-ORIGINAL-URL:https://www.koengernheim.de
X-WR-CALDESC:Veranstaltungen für Gemeinde Köngernheim
REFRESH-INTERVAL;VALUE=DURATION:PT1H
X-Robots-Tag:noindex
X-PUBLISHED-TTL:PT1H
BEGIN:VTIMEZONE
TZID:Europe/Berlin
BEGIN:DAYLIGHT
TZOFFSETFROM:+0100
TZOFFSETTO:+0200
TZNAME:CEST
DTSTART:20250330T010000
END:DAYLIGHT
BEGIN:STANDARD
TZOFFSETFROM:+0200
TZOFFSETTO:+0100
TZNAME:CET
DTSTART:20251026T010000
END:STANDARD
BEGIN:DAYLIGHT
TZOFFSETFROM:+0100
TZOFFSETTO:+0200
TZNAME:CEST
DTSTART:20260329T010000
END:DAYLIGHT
BEGIN:STANDARD
TZOFFSETFROM:+0200
TZOFFSETTO:+0100
TZNAME:CET
DTSTART:20261025T010000
END:STANDARD
BEGIN:DAYLIGHT
TZOFFSETFROM:+0100
TZOFFSETTO:+0200
TZNAME:CEST
DTSTART:20270328T010000
END:DAYLIGHT
BEGIN:STANDARD
TZOFFSETFROM:+0200
TZOFFSETTO:+0100
TZNAME:CET
DTSTART:20271031T010000
END:STANDARD
END:VTIMEZONE
BEGIN:VEVENT
DTSTART;TZID=Europe/Berlin:20260506T193000
DTEND;TZID=Europe/Berlin:20260506T223000
DTSTAMP:20260421T213853
CREATED:20260109T150358Z
LAST-MODIFIED:20260109T150358Z
UID:10001712-1778095800-1778106600@www.koengernheim.de
SUMMARY:Ausschusssitzung
DESCRIPTION:
URL:https://www.koengernheim.de/veranstaltungen/ausschusssitzung-3/
LOCATION:Sickingenhalle\, Im Wiesengrund 1\, Köngernheim\, 55278\, Deutschland
CATEGORIES:Sitzungen
END:VEVENT
BEGIN:VEVENT
DTSTART;TZID=Europe/Berlin:20260518T193000
DTEND;TZID=Europe/Berlin:20260518T223000
DTSTAMP:20260421T213853
CREATED:20260109T150200Z
LAST-MODIFIED:20260109T150200Z
UID:10001709-1779132600-1779143400@www.koengernheim.de
SUMMARY:Ratssitzung
DESCRIPTION:
URL:https://www.koengernheim.de/veranstaltungen/ratssitzung-4/
LOCATION:Sickingenhalle\, Im Wiesengrund 1\, Köngernheim\, 55278\, Deutschland
CATEGORIES:Sitzungen
END:VEVENT
BEGIN:VEVENT
DTSTART;TZID=Europe/Berlin:20260819T193000
DTEND;TZID=Europe/Berlin:20260819T223000
DTSTAMP:20260421T213853
CREATED:20260109T150418Z
LAST-MODIFIED:20260109T150418Z
UID:10001713-1787167800-1787178600@www.koengernheim.de
SUMMARY:Ausschusssitzung
DESCRIPTION:
URL:https://www.koengernheim.de/veranstaltungen/ausschusssitzung-4/
LOCATION:Sickingenhalle\, Im Wiesengrund 1\, Köngernheim\, 55278\, Deutschland
CATEGORIES:Sitzungen
END:VEVENT
BEGIN:VEVENT
DTSTART;TZID=Europe/Berlin:20260902T193000
DTEND;TZID=Europe/Berlin:20260902T223000
DTSTAMP:20260421T213853
CREATED:20260109T150227Z
LAST-MODIFIED:20260109T150227Z
UID:10001710-1788377400-1788388200@www.koengernheim.de
SUMMARY:Ratssitzung
DESCRIPTION:
URL:https://www.koengernheim.de/veranstaltungen/ratssitzung-5/
LOCATION:Sickingenhalle\, Im Wiesengrund 1\, Köngernheim\, 55278\, Deutschland
CATEGORIES:Sitzungen
END:VEVENT
BEGIN:VEVENT
DTSTART;TZID=Europe/Berlin:20261126T193000
DTEND;TZID=Europe/Berlin:20261126T223000
DTSTAMP:20260421T213853
CREATED:20260109T150430Z
LAST-MODIFIED:20260109T150430Z
UID:10001714-1795721400-1795732200@www.koengernheim.de
SUMMARY:Ausschusssitzung
DESCRIPTION:
URL:https://www.koengernheim.de/veranstaltungen/ausschusssitzung-5/
LOCATION:Sickingenhalle\, Im Wiesengrund 1\, Köngernheim\, 55278\, Deutschland
CATEGORIES:Sitzungen
END:VEVENT
BEGIN:VEVENT
DTSTART;TZID=Europe/Berlin:20261207T193000
DTEND;TZID=Europe/Berlin:20261207T223000
DTSTAMP:20260421T213853
CREATED:20260109T150238Z
LAST-MODIFIED:20260109T150238Z
UID:10001711-1796671800-1796682600@www.koengernheim.de
SUMMARY:Ratssitzung
DESCRIPTION:
URL:https://www.koengernheim.de/veranstaltungen/ratssitzung-6/
LOCATION:Sickingenhalle\, Im Wiesengrund 1\, Köngernheim\, 55278\, Deutschland
CATEGORIES:Sitzungen
END:VEVENT
BEGIN:VEVENT
DTSTART;VALUE=DATE:20261212
DTEND;VALUE=DATE:20261213
DTSTAMP:20260421T213853
CREATED:20251212T204854Z
LAST-MODIFIED:20260111T100340Z
UID:10001578-1797033600-1797119999@www.koengernheim.de
SUMMARY:65plus Adventsnachmittag
DESCRIPTION:»65plus Adventsnachmittag« der Ortsgemeinde Köngernheim und des Dorf-Fördervereins\n14:30 Uhr\, Sickingen-Halle
URL:https://www.koengernheim.de/veranstaltungen/65plus-adventsnachmittag/
LOCATION:Sickingenhalle\, Im Wiesengrund 1\, Köngernheim\, 55278\, Deutschland
END:VEVENT
END:VCALENDAR